BEGIN:VCALENDAR
VERSION:2.0
PRODID:-//eventon.com NONSGML v1.0//EN
CALSCALE:GREGORIAN
METHOD:PUBLISH
BEGIN:VEVENT
UID:69e4eba340f43
DTSTAMP:20260419T165011
DTSTART:20260226T083000Z
DTEND:20260226T100000Z
TZID:Europe/Amsterdam
LOCATION:Eltern-Kind-Zentrum Weixelbaum Weixelbaum 51\,  8484 Weixelbaum
SUMMARY:Eltern-Kind-Spielgruppe "Musikkäfer"
DESCRIPTION: Für Kinder von 0 bis ca. 4 Jahre Auch Omas und Opas sind herzlich willkommen! In einer liebevollen Umgebung lernt ihr andere Eltern und Kinder kennen. EKi-Gruppen sind ein Ort\,  an dem Freundschaften entstehen und Gemeinschaft gelebt wird. Eltern reden über das Eltern-sein. Kinder spielen mit Kindern. Es erwartet Euch[..]\nhttps://www.ekiz-radkersburg-elterntreff.at/events/musikkaefer/
URL:https://www.ekiz-radkersburg-elterntreff.at/events/musikkaefer/
END:VEVENT
END:VCALENDAR