BEGIN:VCALENDAR
VERSION:2.0
PRODID:-//eventon.com NONSGML v1.0//EN
CALSCALE:GREGORIAN
METHOD:PUBLISH
BEGIN:VEVENT
UID:69e5ca8343c15
DTSTAMP:20260420T084107
DTSTART:20250407T180000Z
DTEND:20250407T210000Z
TZID:UTC
LOCATION:Eltern-Kind-Zentrum Weixelbaum Weixelbaum 51\,  8484 Weixelbaum
SUMMARY:Eltern werden - was kommt da auf uns zu?
DESCRIPTION: Abend zur Einstimmung auf Geburt und Elternschaft Die Lebensphase\,  in der wir beschließen eine Familie zu gründen\,  ist eine sehr herausfordernde. Vieles verändert sich und ist unbekannt. Dieser Abend richtet sich an Paare und werdende Mamas ab der 25. SSW zur Vorbereitung und Einstimmung auf die Geburt und die erste[..]\nhttps://www.ekiz-radkersburg-elterntreff.at/events/eltern-werden-was-kommt-da-auf-uns-zu/
URL:https://www.ekiz-radkersburg-elterntreff.at/events/eltern-werden-was-kommt-da-auf-uns-zu/
END:VEVENT
END:VCALENDAR